BEGIN:VCALENDAR
VERSION:2.0
PRODID:-//St Annes Primary School - ECPv6.0.6.2//NONSGML v1.0//EN
CALSCALE:GREGORIAN
METHOD:PUBLISH
X-WR-CALNAME:St Annes Primary School
X-ORIGINAL-URL:https://saintannesps.com
X-WR-CALDESC:Events for St Annes Primary School
REFRESH-INTERVAL;VALUE=DURATION:PT1H
X-Robots-Tag:noindex
X-PUBLISHED-TTL:PT1H
BEGIN:VTIMEZONE
TZID:UTC
BEGIN:STANDARD
TZOFFSETFROM:+0000
TZOFFSETTO:+0000
TZNAME:UTC
DTSTART:20250101T000000
END:STANDARD
END:VTIMEZONE
BEGIN:VEVENT
DTSTART;VALUE=DATE:20250505
DTEND;VALUE=DATE:20250506
DTSTAMP:20260423T150142
CREATED:20240501T102212Z
LAST-MODIFIED:20240501T102212Z
UID:8005-1746403200-1746489599@saintannesps.com
SUMMARY:May Day Bank Holiday
DESCRIPTION:
URL:https://saintannesps.com/calendar/may-day-bank-holiday
CATEGORIES:School closures/reopening
END:VEVENT
BEGIN:VEVENT
DTSTART;VALUE=DATE:20250506
DTEND;VALUE=DATE:20250507
DTSTAMP:20260423T150142
CREATED:20240501T102251Z
LAST-MODIFIED:20240501T103238Z
UID:8007-1746489600-1746575999@saintannesps.com
SUMMARY:Staff Development Day
DESCRIPTION:School closed to pupils.
URL:https://saintannesps.com/calendar/staff-development-day-7
CATEGORIES:School closures/reopening
END:VEVENT
BEGIN:VEVENT
DTSTART;VALUE=DATE:20250523
DTEND;VALUE=DATE:20250524
DTSTAMP:20260423T150142
CREATED:20240501T102320Z
LAST-MODIFIED:20240501T102320Z
UID:8009-1747958400-1748044799@saintannesps.com
SUMMARY:School closure
DESCRIPTION:
URL:https://saintannesps.com/calendar/school-closure-2
CATEGORIES:School closures/reopening
END:VEVENT
BEGIN:VEVENT
DTSTART;VALUE=DATE:20250526
DTEND;VALUE=DATE:20250527
DTSTAMP:20260423T150142
CREATED:20240501T102352Z
LAST-MODIFIED:20240501T102352Z
UID:8011-1748217600-1748303999@saintannesps.com
SUMMARY:May Bank Holiday
DESCRIPTION:
URL:https://saintannesps.com/calendar/may-bank-holiday-2
CATEGORIES:School closures/reopening
END:VEVENT
END:VCALENDAR