BEGIN:VCALENDAR
VERSION:2.0
PRODID:-//St Annes Primary School - ECPv6.0.6.2//NONSGML v1.0//EN
CALSCALE:GREGORIAN
METHOD:PUBLISH
X-WR-CALNAME:St Annes Primary School
X-ORIGINAL-URL:https://saintannesps.com
X-WR-CALDESC:Events for St Annes Primary School
REFRESH-INTERVAL;VALUE=DURATION:PT1H
X-Robots-Tag:noindex
X-PUBLISHED-TTL:PT1H
BEGIN:VTIMEZONE
TZID:UTC
BEGIN:STANDARD
TZOFFSETFROM:+0000
TZOFFSETTO:+0000
TZNAME:UTC
DTSTART:20250101T000000
END:STANDARD
END:VTIMEZONE
BEGIN:VEVENT
DTSTART;TZID=UTC:20250417T090000
DTEND;TZID=UTC:20250417T120000
DTSTAMP:20260425T135709
CREATED:20240501T101907Z
LAST-MODIFIED:20240501T101907Z
UID:7997-1744880400-1744891200@saintannesps.com
SUMMARY:Easter Break
DESCRIPTION:School closes at noon. There will be no buses\, breakfast club\, lunches or dinners on this day.
URL:https://saintannesps.com/calendar/easter-break
CATEGORIES:School closures/reopening
END:VEVENT
BEGIN:VEVENT
DTSTART;VALUE=DATE:20250418
DTEND;VALUE=DATE:20250419
DTSTAMP:20260425T135709
CREATED:20240501T102040Z
LAST-MODIFIED:20240501T102040Z
UID:7999-1744934400-1745020799@saintannesps.com
SUMMARY:Easter Holidays
DESCRIPTION:
URL:https://saintannesps.com/calendar/easter-holidays-9
CATEGORIES:School closures/reopening
END:VEVENT
BEGIN:VEVENT
DTSTART;TZID=UTC:20250421T080000
DTEND;TZID=UTC:20250425T170000
DTSTAMP:20260425T135709
CREATED:20240501T102113Z
LAST-MODIFIED:20240501T102113Z
UID:8001-1745222400-1745600400@saintannesps.com
SUMMARY:Easter Holidays
DESCRIPTION:
URL:https://saintannesps.com/calendar/easter-holidays-10
CATEGORIES:School closures/reopening
END:VEVENT
BEGIN:VEVENT
DTSTART;VALUE=DATE:20250428
DTEND;VALUE=DATE:20250429
DTSTAMP:20260425T135709
CREATED:20240501T102139Z
LAST-MODIFIED:20240501T102139Z
UID:8003-1745798400-1745884799@saintannesps.com
SUMMARY:School reopens
DESCRIPTION:
URL:https://saintannesps.com/calendar/school-reopens-26
CATEGORIES:School closures/reopening
END:VEVENT
END:VCALENDAR