BEGIN:VCALENDAR
VERSION:2.0
PRODID:-//St Annes Primary School - ECPv6.0.6.2//NONSGML v1.0//EN
CALSCALE:GREGORIAN
METHOD:PUBLISH
X-WR-CALNAME:St Annes Primary School
X-ORIGINAL-URL:https://saintannesps.com
X-WR-CALDESC:Events for St Annes Primary School
REFRESH-INTERVAL;VALUE=DURATION:PT1H
X-Robots-Tag:noindex
X-PUBLISHED-TTL:PT1H
BEGIN:VTIMEZONE
TZID:UTC
BEGIN:STANDARD
TZOFFSETFROM:+0000
TZOFFSETTO:+0000
TZNAME:UTC
DTSTART:20180101T000000
END:STANDARD
END:VTIMEZONE
BEGIN:VEVENT
DTSTART;TZID=UTC:20190218T080000
DTEND;TZID=UTC:20190222T170000
DTSTAMP:20260425T111209
CREATED:20180627T132254Z
LAST-MODIFIED:20180911T131250Z
UID:3207-1550476800-1550854800@saintannesps.com
SUMMARY:Mid term break - school closed
DESCRIPTION:
URL:https://saintannesps.com/calendar/school-closed-8
CATEGORIES:School closures/reopening
END:VEVENT
BEGIN:VEVENT
DTSTART;VALUE=DATE:20190211
DTEND;VALUE=DATE:20190212
DTSTAMP:20260425T111209
CREATED:20180911T074302Z
LAST-MODIFIED:20180911T074302Z
UID:3385-1549843200-1549929599@saintannesps.com
SUMMARY:AQE Remark deadline
DESCRIPTION:
URL:https://saintannesps.com/calendar/aqe-remark-deadline
CATEGORIES:General notifications/meetings
END:VEVENT
BEGIN:VEVENT
DTSTART;VALUE=DATE:20190208
DTEND;VALUE=DATE:20190209
DTSTAMP:20260425T111209
CREATED:20180911T074212Z
LAST-MODIFIED:20180911T074212Z
UID:3383-1549584000-1549670399@saintannesps.com
SUMMARY:Closing date for Transfer Forms to ESA (Belfast Region)
DESCRIPTION:
URL:https://saintannesps.com/calendar/closing-date-for-transfer-forms-to-esa-belfast-region
CATEGORIES:General notifications/meetings
END:VEVENT
BEGIN:VEVENT
DTSTART;VALUE=DATE:20190208
DTEND;VALUE=DATE:20190209
DTSTAMP:20260425T111209
CREATED:20180911T074131Z
LAST-MODIFIED:20180911T074131Z
UID:3381-1549584000-1549670399@saintannesps.com
SUMMARY:GL remark deadline
DESCRIPTION:
URL:https://saintannesps.com/calendar/gl-remark-deadline
CATEGORIES:General notifications/meetings
END:VEVENT
BEGIN:VEVENT
DTSTART;TZID=UTC:20190131T000000
DTEND;TZID=UTC:20190131T000000
DTSTAMP:20260425T111209
CREATED:20181126T145156Z
LAST-MODIFIED:20181126T145215Z
UID:3526-1548892800-1548892800@saintannesps.com
SUMMARY:Nursery and P1 online applications close @ 12.00 midnight
DESCRIPTION:
URL:https://saintannesps.com/calendar/nursery-and-p1-online-applications-close-12-00-midnight
CATEGORIES:General notifications/meetings
END:VEVENT
BEGIN:VEVENT
DTSTART;TZID=UTC:20190127T100000
DTEND;TZID=UTC:20190127T130000
DTSTAMP:20260425T111209
CREATED:20180911T074051Z
LAST-MODIFIED:20181121T145139Z
UID:3379-1548583200-1548594000@saintannesps.com
SUMMARY:P4 Preparation Masses (3) @10.00 and 12.00 pm
DESCRIPTION:
URL:https://saintannesps.com/calendar/p4-preparation-masses-3
CATEGORIES:Liturgical events
END:VEVENT
BEGIN:VEVENT
DTSTART;VALUE=DATE:20190126
DTEND;VALUE=DATE:20190127
DTSTAMP:20260425T111209
CREATED:20180911T073952Z
LAST-MODIFIED:20180911T073952Z
UID:3377-1548460800-1548547199@saintannesps.com
SUMMARY:Issue of AQE and GL Assessment results
DESCRIPTION:
URL:https://saintannesps.com/calendar/issue-of-aqe-and-gl-assessment-results
CATEGORIES:General notifications/meetings
END:VEVENT
BEGIN:VEVENT
DTSTART;TZID=UTC:20190124T193000
DTEND;TZID=UTC:20190124T203000
DTSTAMP:20260425T111209
CREATED:20180911T073901Z
LAST-MODIFIED:20180911T073901Z
UID:3375-1548358200-1548361800@saintannesps.com
SUMMARY:P7 Service of Light 7.30 pm in the church
DESCRIPTION:
URL:https://saintannesps.com/calendar/p7-service-of-light-7-30-pm-in-the-church
CATEGORIES:Liturgical events
END:VEVENT
BEGIN:VEVENT
DTSTART;TZID=UTC:20190120T100000
DTEND;TZID=UTC:20190120T130000
DTSTAMP:20260425T111209
CREATED:20181121T142538Z
LAST-MODIFIED:20190114T202949Z
UID:3505-1547978400-1547989200@saintannesps.com
SUMMARY:P3 Enrolment Masses @10.00 am and 12.00 pm - cancelled
DESCRIPTION:
URL:https://saintannesps.com/calendar/p4-preparation-masses-3-10-00-am-and-12-00-pm
CATEGORIES:Liturgical events
END:VEVENT
BEGIN:VEVENT
DTSTART;VALUE=DATE:20190118
DTEND;VALUE=DATE:20190119
DTSTAMP:20260425T111209
CREATED:20180911T073759Z
LAST-MODIFIED:20180911T073759Z
UID:3373-1547769600-1547855999@saintannesps.com
SUMMARY:Nursery - Primary Seven Parent Teacher Meetings
DESCRIPTION:School closed to pupils.
URL:https://saintannesps.com/calendar/nursery-primary-seven-parent-teacher-meetings
CATEGORIES:General notifications/meetings
END:VEVENT
BEGIN:VEVENT
DTSTART;VALUE=DATE:20190118
DTEND;VALUE=DATE:20190119
DTSTAMP:20260425T111209
CREATED:20180627T132215Z
LAST-MODIFIED:20180627T132215Z
UID:3205-1547769600-1547855999@saintannesps.com
SUMMARY:School closed to pupils
DESCRIPTION:
URL:https://saintannesps.com/calendar/school-closed-to-pupils
CATEGORIES:School closures/reopening
END:VEVENT
BEGIN:VEVENT
DTSTART;TZID=UTC:20190116T143000
DTEND;TZID=UTC:20190116T153000
DTSTAMP:20260425T111209
CREATED:20181119T151020Z
LAST-MODIFIED:20181119T151117Z
UID:3493-1547649000-1547652600@saintannesps.com
SUMMARY:Nursery Open Day (2) @ 2.30 pm
DESCRIPTION:
URL:https://saintannesps.com/calendar/nursery-open-day-2-2-30-pm
CATEGORIES:General notifications/meetings
END:VEVENT
BEGIN:VEVENT
DTSTART;TZID=UTC:20190115T193000
DTEND;TZID=UTC:20190115T203000
DTSTAMP:20260425T111209
CREATED:20181121T142813Z
LAST-MODIFIED:20190114T203057Z
UID:3507-1547580600-1547584200@saintannesps.com
SUMMARY:P3 Parents to meet Father Peter @ 7.30 pm in the church- cancelled
DESCRIPTION:
URL:https://saintannesps.com/calendar/p3-parents-to-meet-father-peter-7-30-pm-in-the-church
CATEGORIES:Liturgical events
END:VEVENT
BEGIN:VEVENT
DTSTART;TZID=UTC:20190115T130000
DTEND;TZID=UTC:20190115T143000
DTSTAMP:20260425T111209
CREATED:20181119T151802Z
LAST-MODIFIED:20181119T151802Z
UID:3499-1547557200-1547562600@saintannesps.com
SUMMARY:Primary 1 Open Day (2) @ 1.00 pm
DESCRIPTION:
URL:https://saintannesps.com/calendar/primary-1-open-day-2-1-00-pm
CATEGORIES:General notifications/meetings
END:VEVENT
BEGIN:VEVENT
DTSTART;TZID=UTC:20190111T141000
DTEND;TZID=UTC:20190111T145000
DTSTAMP:20260425T111209
CREATED:20180911T073624Z
LAST-MODIFIED:20180911T131103Z
UID:3371-1547215800-1547218200@saintannesps.com
SUMMARY:Post Primary Fair in Parish Hall 2.10 - 2.50 pm
DESCRIPTION:
URL:https://saintannesps.com/calendar/post-primary-fair-in-parish-hall-2-10-2-50-pm
CATEGORIES:General notifications/meetings
END:VEVENT
BEGIN:VEVENT
DTSTART;VALUE=DATE:20190107
DTEND;VALUE=DATE:20190108
DTSTAMP:20260425T111209
CREATED:20180627T154139Z
LAST-MODIFIED:20180627T154139Z
UID:3234-1546819200-1546905599@saintannesps.com
SUMMARY:School reopens
DESCRIPTION:
URL:https://saintannesps.com/calendar/school-reopens-6
CATEGORIES:School closures/reopening
END:VEVENT
BEGIN:VEVENT
DTSTART;TZID=UTC:20190103T080000
DTEND;TZID=UTC:20190104T170000
DTSTAMP:20260425T111209
CREATED:20180909T213954Z
LAST-MODIFIED:20180909T213954Z
UID:3353-1546502400-1546621200@saintannesps.com
SUMMARY:Staff Development Day
DESCRIPTION:School closed to pupils.
URL:https://saintannesps.com/calendar/staff-development-day
CATEGORIES:School closures/reopening
END:VEVENT
BEGIN:VEVENT
DTSTART;TZID=UTC:20190102T100000
DTEND;TZID=UTC:20190102T100000
DTSTAMP:20260425T111209
CREATED:20181126T145043Z
LAST-MODIFIED:20181126T145043Z
UID:3524-1546423200-1546423200@saintannesps.com
SUMMARY:Nursery and P1 online applications open @ 10.00 am
DESCRIPTION:
URL:https://saintannesps.com/calendar/nursery-and-p1-online-applications-open-10-00-am
CATEGORIES:General notifications/meetings
END:VEVENT
BEGIN:VEVENT
DTSTART;TZID=UTC:20181224T080000
DTEND;TZID=UTC:20190104T170000
DTSTAMP:20260425T111209
CREATED:20180909T213912Z
LAST-MODIFIED:20180911T131625Z
UID:3351-1545638400-1546621200@saintannesps.com
SUMMARY:Christmas Break -school closed
DESCRIPTION:
URL:https://saintannesps.com/calendar/christmas-break
CATEGORIES:School closures/reopening
END:VEVENT
BEGIN:VEVENT
DTSTART;TZID=UTC:20181221T120000
DTEND;TZID=UTC:20181221T120000
DTSTAMP:20260425T111209
CREATED:20180627T131905Z
LAST-MODIFIED:20180627T131905Z
UID:3201-1545393600-1545393600@saintannesps.com
SUMMARY:School closes at 12.00 pm
DESCRIPTION:No breakfast bar\, lunches or dinners. As there is only one bus at 12 noon\, parents are asked to collect their children\, where possible.
URL:https://saintannesps.com/calendar/school-closes-at-12-00-pm
CATEGORIES:School closures/reopening
END:VEVENT
BEGIN:VEVENT
DTSTART;TZID=UTC:20181220T141500
DTEND;TZID=UTC:20181220T150000
DTSTAMP:20260425T111209
CREATED:20180909T213655Z
LAST-MODIFIED:20180909T213655Z
UID:3347-1545315300-1545318000@saintannesps.com
SUMMARY:P4-7 Advent Service at 2.15 pm in the church
DESCRIPTION:Parents welcome.
URL:https://saintannesps.com/calendar/p4-7-advent-service-at-2-15-pm-in-the-church
CATEGORIES:Liturgical events
END:VEVENT
BEGIN:VEVENT
DTSTART;VALUE=DATE:20181219
DTEND;VALUE=DATE:20181220
DTSTAMP:20260425T111209
CREATED:20180909T213539Z
LAST-MODIFIED:20180909T213539Z
UID:3345-1545177600-1545263999@saintannesps.com
SUMMARY:P2 and P3 Panto
DESCRIPTION:Lyric Theatre: Alice in Wonderland 10.30 am performance
URL:https://saintannesps.com/calendar/p2-and-p3-panto
CATEGORIES:Curriculum events
END:VEVENT
BEGIN:VEVENT
DTSTART;TZID=UTC:20181216T100000
DTEND;TZID=UTC:20181216T130000
DTSTAMP:20260425T111209
CREATED:20180909T213427Z
LAST-MODIFIED:20181207T092703Z
UID:3342-1544954400-1544965200@saintannesps.com
SUMMARY:P4 Preparation Masses (2) @10.00 am and 12.00 pm
DESCRIPTION:
URL:https://saintannesps.com/calendar/p4-preparation-masses
CATEGORIES:Liturgical events
END:VEVENT
BEGIN:VEVENT
DTSTART;VALUE=DATE:20181214
DTEND;VALUE=DATE:20181215
DTSTAMP:20260425T111209
CREATED:20180909T213318Z
LAST-MODIFIED:20180909T213318Z
UID:3340-1544745600-1544831999@saintannesps.com
SUMMARY:GL Special Circumstances Deadline
DESCRIPTION:
URL:https://saintannesps.com/calendar/gl-special-circumstances-deadline
CATEGORIES:General notifications/meetings
END:VEVENT
BEGIN:VEVENT
DTSTART;VALUE=DATE:20181214
DTEND;VALUE=DATE:20181215
DTSTAMP:20260425T111209
CREATED:20180909T213248Z
LAST-MODIFIED:20180909T213248Z
UID:3338-1544745600-1544831999@saintannesps.com
SUMMARY:P4-7 Special Christmas Dinner
DESCRIPTION:
URL:https://saintannesps.com/calendar/p4-7-special-christmas-dinner
CATEGORIES:General notifications/meetings
END:VEVENT
BEGIN:VEVENT
DTSTART;VALUE=DATE:20181214
DTEND;VALUE=DATE:20181215
DTSTAMP:20260425T111209
CREATED:20180909T213216Z
LAST-MODIFIED:20180909T213216Z
UID:3336-1544745600-1544831999@saintannesps.com
SUMMARY:P2 Nativity Play (2)
DESCRIPTION:
URL:https://saintannesps.com/calendar/p2-nativity-play-2
CATEGORIES:Curriculum events
END:VEVENT
BEGIN:VEVENT
DTSTART;VALUE=DATE:20181213
DTEND;VALUE=DATE:20181214
DTSTAMP:20260425T111209
CREATED:20180909T213151Z
LAST-MODIFIED:20180909T213151Z
UID:3334-1544659200-1544745599@saintannesps.com
SUMMARY:P6 and P7 Panto
DESCRIPTION:Lyric Theatre: Alice in Wonderland 10.30 am performance
URL:https://saintannesps.com/calendar/p6-and-p7-panto
CATEGORIES:Curriculum events
END:VEVENT
BEGIN:VEVENT
DTSTART;TZID=UTC:20181212T130000
DTEND;TZID=UTC:20181212T143000
DTSTAMP:20260425T111209
CREATED:20181119T151212Z
LAST-MODIFIED:20181119T151212Z
UID:3495-1544619600-1544625000@saintannesps.com
SUMMARY:Primary 1 Open Day (1) @ 1.00 pm
DESCRIPTION:
URL:https://saintannesps.com/calendar/primary-1-open-day-1-1-00-pm
CATEGORIES:General notifications/meetings
END:VEVENT
BEGIN:VEVENT
DTSTART;VALUE=DATE:20181212
DTEND;VALUE=DATE:20181213
DTSTAMP:20260425T111209
CREATED:20180909T213052Z
LAST-MODIFIED:20180909T213052Z
UID:3332-1544572800-1544659199@saintannesps.com
SUMMARY:P4 and P5 Panto
DESCRIPTION:Lyric Theatre: Alice in Wonderland 10.30 am performance
URL:https://saintannesps.com/calendar/p4-and-p5-panto
CATEGORIES:Curriculum events
END:VEVENT
BEGIN:VEVENT
DTSTART;TZID=UTC:20181211T143000
DTEND;TZID=UTC:20181211T153000
DTSTAMP:20260425T111209
CREATED:20181119T150934Z
LAST-MODIFIED:20181119T150934Z
UID:3491-1544538600-1544542200@saintannesps.com
SUMMARY:Nursery Open Day (1) @ 2.30 pm
DESCRIPTION:
URL:https://saintannesps.com/calendar/nursery-open-day-1-2-30-pm
CATEGORIES:General notifications/meetings
END:VEVENT
END:VCALENDAR