BEGIN:VCALENDAR
VERSION:2.0
PRODID:-//St Annes Primary School - ECPv6.0.6.2//NONSGML v1.0//EN
CALSCALE:GREGORIAN
METHOD:PUBLISH
X-WR-CALNAME:St Annes Primary School
X-ORIGINAL-URL:https://saintannesps.com
X-WR-CALDESC:Events for St Annes Primary School
REFRESH-INTERVAL;VALUE=DURATION:PT1H
X-Robots-Tag:noindex
X-PUBLISHED-TTL:PT1H
BEGIN:VTIMEZONE
TZID:UTC
BEGIN:STANDARD
TZOFFSETFROM:+0000
TZOFFSETTO:+0000
TZNAME:UTC
DTSTART:20190101T000000
END:STANDARD
END:VTIMEZONE
BEGIN:VEVENT
DTSTART;TZID=UTC:20190624T193000
DTEND;TZID=UTC:20190624T203000
DTSTAMP:20260421T083741
CREATED:20180911T112753Z
LAST-MODIFIED:20180911T112753Z
UID:3457-1561404600-1561408200@saintannesps.com
SUMMARY:P7 Leavers Mass 7.30 pm
DESCRIPTION:
URL:https://saintannesps.com/calendar/p7-leavers-mass-7-30-pm
CATEGORIES:Liturgical events
END:VEVENT
BEGIN:VEVENT
DTSTART;TZID=UTC:20190623T160000
DTEND;TZID=UTC:20190623T170000
DTSTAMP:20260421T083741
CREATED:20180911T111408Z
LAST-MODIFIED:20181121T135732Z
UID:3433-1561305600-1561309200@saintannesps.com
SUMMARY:Corpus Christi Procession at 4.00 pm - P4 and P7 pupils invited
DESCRIPTION:
URL:https://saintannesps.com/calendar/corpus-christi-procession-at-4-00-pm-p4-and-p7-pupils-invited
CATEGORIES:Liturgical events
END:VEVENT
BEGIN:VEVENT
DTSTART;TZID=UTC:20190621T190000
DTEND;TZID=UTC:20190621T210000
DTSTAMP:20260421T083741
CREATED:20180911T112640Z
LAST-MODIFIED:20180911T112640Z
UID:3455-1561143600-1561150800@saintannesps.com
SUMMARY:P7 Leavers Party
DESCRIPTION:
URL:https://saintannesps.com/calendar/p7-leavers-party
CATEGORIES:Curriculum events
END:VEVENT
BEGIN:VEVENT
DTSTART;TZID=UTC:20190619T144500
DTEND;TZID=UTC:20190619T154500
DTSTAMP:20260421T083741
CREATED:20180911T112421Z
LAST-MODIFIED:20180911T132510Z
UID:3453-1560955500-1560959100@saintannesps.com
SUMMARY:P1 Information Afternoon (2) 2.45 - 3.45 pm
DESCRIPTION:
URL:https://saintannesps.com/calendar/p1-information-afternoon-2-45-3-45-pm-2
CATEGORIES:General notifications/meetings
END:VEVENT
BEGIN:VEVENT
DTSTART;TZID=UTC:20190618T144500
DTEND;TZID=UTC:20190618T154500
DTSTAMP:20260421T083741
CREATED:20180911T112332Z
LAST-MODIFIED:20180911T132355Z
UID:3451-1560869100-1560872700@saintannesps.com
SUMMARY:P1 Information Afternoon (1) 2.45 - 3.45 pm
DESCRIPTION:
URL:https://saintannesps.com/calendar/p1-information-afternoon-2-45-3-45-pm
CATEGORIES:General notifications/meetings
END:VEVENT
BEGIN:VEVENT
DTSTART;VALUE=DATE:20190617
DTEND;VALUE=DATE:20190618
DTSTAMP:20260421T083741
CREATED:20190429T142825Z
LAST-MODIFIED:20190429T142825Z
UID:3720-1560729600-1560815999@saintannesps.com
SUMMARY:P4 and P5 Sports Day
DESCRIPTION:
URL:https://saintannesps.com/calendar/p4-and-p5-sports-day
CATEGORIES:Curriculum events
END:VEVENT
BEGIN:VEVENT
DTSTART;VALUE=DATE:20190614
DTEND;VALUE=DATE:20190615
DTSTAMP:20260421T083741
CREATED:20190429T142746Z
LAST-MODIFIED:20190429T142746Z
UID:3718-1560470400-1560556799@saintannesps.com
SUMMARY:P6 and P7 Sports Day
DESCRIPTION:
URL:https://saintannesps.com/calendar/p6-and-p7-sports-day
CATEGORIES:Curriculum events
END:VEVENT
BEGIN:VEVENT
DTSTART;VALUE=DATE:20190614
DTEND;VALUE=DATE:20190615
DTSTAMP:20260421T083741
CREATED:20180911T112210Z
LAST-MODIFIED:20180911T112224Z
UID:3448-1560470400-1560556799@saintannesps.com
SUMMARY:Nursery Information Session (2) 11.30 am
DESCRIPTION:Nursery closed to current Nursery pupils
URL:https://saintannesps.com/calendar/nursery-information-session-2
CATEGORIES:General notifications/meetings
END:VEVENT
BEGIN:VEVENT
DTSTART;VALUE=DATE:20190614
DTEND;VALUE=DATE:20190615
DTSTAMP:20260421T083741
CREATED:20180911T112013Z
LAST-MODIFIED:20180911T112114Z
UID:3443-1560470400-1560556799@saintannesps.com
SUMMARY:Nursery Information Session (1) 9.30 am
DESCRIPTION:Nursery closed to current Nursery pupils
URL:https://saintannesps.com/calendar/nursery-information-session-1-9-30-am
CATEGORIES:General notifications/meetings
END:VEVENT
BEGIN:VEVENT
DTSTART;TZID=UTC:20190606T183000
DTEND;TZID=UTC:20190606T213000
DTSTAMP:20260421T083741
CREATED:20180911T111626Z
LAST-MODIFIED:20180911T111626Z
UID:3437-1559845800-1559856600@saintannesps.com
SUMMARY:P7 Concert Performance (B)
DESCRIPTION:
URL:https://saintannesps.com/calendar/p7-concert-performance-b
CATEGORIES:Curriculum events
END:VEVENT
BEGIN:VEVENT
DTSTART;TZID=UTC:20190605T063000
DTEND;TZID=UTC:20190605T213000
DTSTAMP:20260421T083741
CREATED:20180911T111540Z
LAST-MODIFIED:20180911T111540Z
UID:3435-1559716200-1559770200@saintannesps.com
SUMMARY:P7 Concert Performance (A)
DESCRIPTION:
URL:https://saintannesps.com/calendar/p7-concert-performance-a
CATEGORIES:Curriculum events
END:VEVENT
BEGIN:VEVENT
DTSTART;VALUE=DATE:20190528
DTEND;VALUE=DATE:20190529
DTSTAMP:20260421T083741
CREATED:20180911T111251Z
LAST-MODIFIED:20180911T111251Z
UID:3431-1559001600-1559087999@saintannesps.com
SUMMARY:P1 Trip to Streamvale Farm
DESCRIPTION:
URL:https://saintannesps.com/calendar/p1-trip-to-streamvale-farm
CATEGORIES:Curriculum events
END:VEVENT
BEGIN:VEVENT
DTSTART;VALUE=DATE:20190527
DTEND;VALUE=DATE:20190528
DTSTAMP:20260421T083741
CREATED:20180911T111216Z
LAST-MODIFIED:20180911T111216Z
UID:3429-1558915200-1559001599@saintannesps.com
SUMMARY:Staff Development Day - school closed to pupils
DESCRIPTION:
URL:https://saintannesps.com/calendar/staff-development-day-school-closed-to-pupils-2
CATEGORIES:School closures/reopening
END:VEVENT
BEGIN:VEVENT
DTSTART;TZID=UTC:20190524T100000
DTEND;TZID=UTC:20190524T120000
DTSTAMP:20260421T083741
CREATED:20190508T073424Z
LAST-MODIFIED:20190508T073424Z
UID:3723-1558692000-1558699200@saintannesps.com
SUMMARY:Nursery Sports Day @ 10.00 am in Nursery playground
DESCRIPTION:
URL:https://saintannesps.com/calendar/nursery-sports-day-10-00-am-in-nursery-playground
CATEGORIES:Curriculum events
END:VEVENT
BEGIN:VEVENT
DTSTART;TZID=UTC:20190523T080000
DTEND;TZID=UTC:20190523T170000
DTSTAMP:20260421T083741
CREATED:20180911T111122Z
LAST-MODIFIED:20180911T111122Z
UID:3427-1558598400-1558630800@saintannesps.com
SUMMARY:P4-7 Special American Dinner
DESCRIPTION:
URL:https://saintannesps.com/calendar/p4-7-special-american-dinner
CATEGORIES:General notifications/meetings
END:VEVENT
BEGIN:VEVENT
DTSTART;VALUE=DATE:20190518
DTEND;VALUE=DATE:20190519
DTSTAMP:20260421T083741
CREATED:20180911T111037Z
LAST-MODIFIED:20181121T140020Z
UID:3425-1558137600-1558223999@saintannesps.com
SUMMARY:First Holy Communion
DESCRIPTION:10.00 am – Miss Irwin and Miss Mc Allister \n12.30 pm – Mrs Scullin and Mrs Mc Atarsney
URL:https://saintannesps.com/calendar/first-holy-communion
CATEGORIES:Liturgical events
END:VEVENT
BEGIN:VEVENT
DTSTART;VALUE=DATE:20190515
DTEND;VALUE=DATE:20190516
DTSTAMP:20260421T083741
CREATED:20190429T142321Z
LAST-MODIFIED:20190429T142321Z
UID:3716-1557878400-1557964799@saintannesps.com
SUMMARY:P1 Sports Day
DESCRIPTION:
URL:https://saintannesps.com/calendar/p1-sports-day-2
CATEGORIES:Curriculum events
END:VEVENT
BEGIN:VEVENT
DTSTART;VALUE=DATE:20190514
DTEND;VALUE=DATE:20190515
DTSTAMP:20260421T083741
CREATED:20190429T142255Z
LAST-MODIFIED:20190429T142255Z
UID:3714-1557792000-1557878399@saintannesps.com
SUMMARY:P2 Sports Day
DESCRIPTION:
URL:https://saintannesps.com/calendar/p2-sports-day-2
CATEGORIES:Curriculum events
END:VEVENT
BEGIN:VEVENT
DTSTART;VALUE=DATE:20190513
DTEND;VALUE=DATE:20190514
DTSTAMP:20260421T083741
CREATED:20190429T142229Z
LAST-MODIFIED:20190429T142229Z
UID:3712-1557705600-1557791999@saintannesps.com
SUMMARY:P3 Sports Day
DESCRIPTION:
URL:https://saintannesps.com/calendar/p3-sports-day-2
CATEGORIES:Curriculum events
END:VEVENT
BEGIN:VEVENT
DTSTART;TZID=UTC:20190507T080000
DTEND;TZID=UTC:20190508T170000
DTSTAMP:20260421T083741
CREATED:20180911T110632Z
LAST-MODIFIED:20180911T110632Z
UID:3411-1557216000-1557334800@saintannesps.com
SUMMARY:P4-7 Order and payment for Special American Dinner
DESCRIPTION:
URL:https://saintannesps.com/calendar/p4-7-order-and-payment-for-special-american-dinner
CATEGORIES:General notifications/meetings
END:VEVENT
BEGIN:VEVENT
DTSTART;VALUE=DATE:20190506
DTEND;VALUE=DATE:20190507
DTSTAMP:20260421T083741
CREATED:20180911T110430Z
LAST-MODIFIED:20180911T110430Z
UID:3409-1557100800-1557187199@saintannesps.com
SUMMARY:Bank Holiday - school closed
DESCRIPTION:
URL:https://saintannesps.com/calendar/bank-holiday-school-closed
CATEGORIES:School closures/reopening
END:VEVENT
BEGIN:VEVENT
DTSTART;VALUE=DATE:20190429
DTEND;VALUE=DATE:20190430
DTSTAMP:20260421T083741
CREATED:20180627T153651Z
LAST-MODIFIED:20180627T153651Z
UID:3224-1556496000-1556582399@saintannesps.com
SUMMARY:School reopens
DESCRIPTION:
URL:https://saintannesps.com/calendar/school-reopens-4
CATEGORIES:School closures/reopening
END:VEVENT
BEGIN:VEVENT
DTSTART;TZID=UTC:20190419T080000
DTEND;TZID=UTC:20190426T170000
DTSTAMP:20260421T083741
CREATED:20180911T110352Z
LAST-MODIFIED:20180911T132151Z
UID:3407-1555660800-1556298000@saintannesps.com
SUMMARY:Easter Holidays - school closed
DESCRIPTION:
URL:https://saintannesps.com/calendar/easter-holidays
CATEGORIES:School closures/reopening
END:VEVENT
BEGIN:VEVENT
DTSTART;TZID=UTC:20190418T080000
DTEND;TZID=UTC:20190418T170000
DTSTAMP:20260421T083741
CREATED:20180911T110045Z
LAST-MODIFIED:20180911T110045Z
UID:3403-1555574400-1555606800@saintannesps.com
SUMMARY:Children invited to Holy Thursday Service
DESCRIPTION:
URL:https://saintannesps.com/calendar/children-invited-to-holy-thursday-service
CATEGORIES:Liturgical events
END:VEVENT
BEGIN:VEVENT
DTSTART;TZID=UTC:20190418T080000
DTEND;TZID=UTC:20190418T120000
DTSTAMP:20260421T083741
CREATED:20180627T153355Z
LAST-MODIFIED:20180627T154840Z
UID:3218-1555574400-1555588800@saintannesps.com
SUMMARY:School closes at 12.00 pm
DESCRIPTION:No breakfast bar\, lunches or dinners. As there is only one bus at 12 noon\, parents are asked to collect their children\, where possible.
URL:https://saintannesps.com/calendar/school-closes-at-12-00-pm-2
CATEGORIES:School closures/reopening
END:VEVENT
BEGIN:VEVENT
DTSTART;TZID=UTC:20190416T080000
DTEND;TZID=UTC:20190417T170000
DTSTAMP:20260421T083741
CREATED:20180911T105944Z
LAST-MODIFIED:20181126T144233Z
UID:3401-1555401600-1555520400@saintannesps.com
SUMMARY:P7 Residential Trip
DESCRIPTION:
URL:https://saintannesps.com/calendar/p7-residential-trip-3
CATEGORIES:Curriculum events
END:VEVENT
BEGIN:VEVENT
DTSTART;VALUE=DATE:20190414
DTEND;VALUE=DATE:20190415
DTSTAMP:20260421T083741
CREATED:20190404T075530Z
LAST-MODIFIED:20190404T075610Z
UID:3707-1555200000-1555286399@saintannesps.com
SUMMARY:P4 preparation Mass 'Do this in Memory of Me'
DESCRIPTION:
URL:https://saintannesps.com/calendar/p4-preparation-mass-2
CATEGORIES:Liturgical events
END:VEVENT
BEGIN:VEVENT
DTSTART;TZID=UTC:20190406T183000
DTEND;TZID=UTC:20190407T133000
DTSTAMP:20260421T083741
CREATED:20180911T105903Z
LAST-MODIFIED:20190404T075442Z
UID:3399-1554575400-1554643800@saintannesps.com
SUMMARY:P4 Preparation Masses (4)- postponed to 14th April
DESCRIPTION:
URL:https://saintannesps.com/calendar/p4-preparation-masses-6
CATEGORIES:Liturgical events
END:VEVENT
BEGIN:VEVENT
DTSTART;TZID=UTC:20190405T110000
DTEND;TZID=UTC:20190405T123000
DTSTAMP:20260421T083741
CREATED:20180911T105746Z
LAST-MODIFIED:20180911T105746Z
UID:3397-1554462000-1554467400@saintannesps.com
SUMMARY:Sacrament of Reconciliation 11.00 am
DESCRIPTION:
URL:https://saintannesps.com/calendar/sacrament-of-reconciliation-11-00-am
CATEGORIES:Liturgical events
END:VEVENT
BEGIN:VEVENT
DTSTART;TZID=UTC:20190404T193000
DTEND;TZID=UTC:20190404T203000
DTSTAMP:20260421T083741
CREATED:20190322T153105Z
LAST-MODIFIED:20190322T153105Z
UID:3703-1554406200-1554409800@saintannesps.com
SUMMARY:Transfer Test Information Session for P6 Parents at 7.30 pm in Block B Assembly Hall
DESCRIPTION:
URL:https://saintannesps.com/calendar/transfer-test-information-session-for-p6-parents-at-7-30-pm-in-block-b-assembly-hall
CATEGORIES:General notifications/meetings
END:VEVENT
END:VCALENDAR