BEGIN:VCALENDAR
VERSION:2.0
PRODID:-//St Annes Primary School - ECPv6.0.6.2//NONSGML v1.0//EN
CALSCALE:GREGORIAN
METHOD:PUBLISH
X-ORIGINAL-URL:https://saintannesps.com
X-WR-CALDESC:Events for St Annes Primary School
REFRESH-INTERVAL;VALUE=DURATION:PT1H
X-Robots-Tag:noindex
X-PUBLISHED-TTL:PT1H
BEGIN:VTIMEZONE
TZID:UTC
BEGIN:STANDARD
TZOFFSETFROM:+0000
TZOFFSETTO:+0000
TZNAME:UTC
DTSTART:20250101T000000
END:STANDARD
END:VTIMEZONE
BEGIN:VEVENT
DTSTART;TZID=UTC:20250828T090000
DTEND;TZID=UTC:20250828T121500
DTSTAMP:20260420T140051
CREATED:20250826T070926Z
LAST-MODIFIED:20250827T074215Z
UID:8835-1756371600-1756383300@saintannesps.com
SUMMARY:School reopens
DESCRIPTION:School closes at 12.15pm. (No breakfast club\, dinners or buses)
URL:https://saintannesps.com/calendar/school-reopens-27
CATEGORIES:School closures/reopening
END:VEVENT
BEGIN:VEVENT
DTSTART;TZID=UTC:20250829T090000
DTEND;TZID=UTC:20250829T121500
DTSTAMP:20260420T140051
CREATED:20250826T071033Z
LAST-MODIFIED:20250827T074255Z
UID:8837-1756458000-1756469700@saintannesps.com
SUMMARY:Early school closure
DESCRIPTION:School closes at 12.15pm. (No breakfast club\, dinners or buses).
URL:https://saintannesps.com/calendar/early-school-closure
CATEGORIES:School closures/reopening
END:VEVENT
END:VCALENDAR