BEGIN:VCALENDAR
VERSION:2.0
PRODID:-//St Annes Primary School - ECPv6.0.6.2//NONSGML v1.0//EN
CALSCALE:GREGORIAN
METHOD:PUBLISH
X-WR-CALNAME:St Annes Primary School
X-ORIGINAL-URL:https://saintannesps.com
X-WR-CALDESC:Events for St Annes Primary School
REFRESH-INTERVAL;VALUE=DURATION:PT1H
X-Robots-Tag:noindex
X-PUBLISHED-TTL:PT1H
BEGIN:VTIMEZONE
TZID:UTC
BEGIN:STANDARD
TZOFFSETFROM:+0000
TZOFFSETTO:+0000
TZNAME:UTC
DTSTART:20260101T000000
END:STANDARD
END:VTIMEZONE
BEGIN:VEVENT
DTSTART;TZID=UTC:20260115T110000
DTEND;TZID=UTC:20260115T120000
DTSTAMP:20260425T152512
CREATED:20251205T174241Z
LAST-MODIFIED:20251205T174241Z
UID:8981-1768474800-1768478400@saintannesps.com
SUMMARY:Enrolment for Confession P3CD and P3CW
DESCRIPTION:Classes of Mrs Donnelly and Mrs Walsh
URL:https://saintannesps.com/calendar/enrolment-for-confession-p3cd-and-p3cw
CATEGORIES:Liturgical events
END:VEVENT
BEGIN:VEVENT
DTSTART;TZID=UTC:20260115T130000
DTEND;TZID=UTC:20260115T140000
DTSTAMP:20260425T152512
CREATED:20251205T174335Z
LAST-MODIFIED:20251205T174335Z
UID:8983-1768482000-1768485600@saintannesps.com
SUMMARY:Enrolment for Confession P3AS and P3CMG
DESCRIPTION:Classes of Mrs Stott and Mrs Mc Guinness
URL:https://saintannesps.com/calendar/enrolment-for-confession-p3as-and-p3cmg
CATEGORIES:Liturgical events
END:VEVENT
BEGIN:VEVENT
DTSTART;TZID=UTC:20260122T110000
DTEND;TZID=UTC:20260122T120000
DTSTAMP:20260425T152512
CREATED:20251205T175314Z
LAST-MODIFIED:20251205T175314Z
UID:8997-1769079600-1769083200@saintannesps.com
SUMMARY:Enrolment for Confirmation P7AON/P7KD
DESCRIPTION:Classes of Miss A O’Neill and Mr Donnelly
URL:https://saintannesps.com/calendar/enrolment-for-confirmation-p7aon-p7kd
CATEGORIES:Liturgical events
END:VEVENT
BEGIN:VEVENT
DTSTART;TZID=UTC:20260122T140000
DTEND;TZID=UTC:20260122T150000
DTSTAMP:20260425T152512
CREATED:20251205T175415Z
LAST-MODIFIED:20251205T175415Z
UID:8999-1769090400-1769094000@saintannesps.com
SUMMARY:Enrolment for Confirmation P7CM/P7CWN
DESCRIPTION:Classes of Ms Mullan and Mrs Watson
URL:https://saintannesps.com/calendar/enrolment-for-confirmation-p7cm-p7cwn
CATEGORIES:Liturgical events
END:VEVENT
BEGIN:VEVENT
DTSTART;TZID=UTC:20260129T110000
DTEND;TZID=UTC:20260129T120000
DTSTAMP:20260425T152512
CREATED:20251205T175948Z
LAST-MODIFIED:20251205T175948Z
UID:9007-1769684400-1769688000@saintannesps.com
SUMMARY:Enrolment for Holy Communion P4NF and P4CG
DESCRIPTION:Classes of Ms Fitzpatrick/Mc Ateer and Miss Gillespie
URL:https://saintannesps.com/calendar/enrolment-for-holy-communion-p4nf-and-p4cg
CATEGORIES:Liturgical events
END:VEVENT
BEGIN:VEVENT
DTSTART;TZID=UTC:20260129T140000
DTEND;TZID=UTC:20260129T150000
DTSTAMP:20260425T152512
CREATED:20251205T180116Z
LAST-MODIFIED:20251205T180116Z
UID:9009-1769695200-1769698800@saintannesps.com
SUMMARY:Enrolment for Holy Communion P4LB and P4OMG
DESCRIPTION:Classes of Mrs Brown/Mc Ateer and Mrs Mc Gleenan
URL:https://saintannesps.com/calendar/enrolment-for-holy-communion-p4lb-and-p4omg
CATEGORIES:Liturgical events
END:VEVENT
END:VCALENDAR