BEGIN:VCALENDAR
VERSION:2.0
PRODID:-//St Annes Primary School - ECPv6.0.6.2//NONSGML v1.0//EN
CALSCALE:GREGORIAN
METHOD:PUBLISH
X-ORIGINAL-URL:https://saintannesps.com
X-WR-CALDESC:Events for St Annes Primary School
REFRESH-INTERVAL;VALUE=DURATION:PT1H
X-Robots-Tag:noindex
X-PUBLISHED-TTL:PT1H
BEGIN:VTIMEZONE
TZID:UTC
BEGIN:STANDARD
TZOFFSETFROM:+0000
TZOFFSETTO:+0000
TZNAME:UTC
DTSTART:20220101T000000
END:STANDARD
END:VTIMEZONE
BEGIN:VEVENT
DTSTART;TZID=UTC:20220301T080000
DTEND;TZID=UTC:20220301T170000
DTSTAMP:20260424T180620
CREATED:20211202T101126Z
LAST-MODIFIED:20211202T101126Z
UID:5905-1646121600-1646154000@saintannesps.com
SUMMARY:Sacrament of Confirmation - Ms Mullan's Class
DESCRIPTION:Details to be confirmed.
URL:https://saintannesps.com/calendar/sacrament-of-confirmation-ms-mullans-class
CATEGORIES:Liturgical events
END:VEVENT
BEGIN:VEVENT
DTSTART;VALUE=DATE:20220303
DTEND;VALUE=DATE:20220304
DTSTAMP:20260424T180620
CREATED:20211202T101206Z
LAST-MODIFIED:20211202T101206Z
UID:5907-1646265600-1646351999@saintannesps.com
SUMMARY:Sacrament of Confirmation - Mrs J O Neill's Class
DESCRIPTION:Details to be confirmed.
URL:https://saintannesps.com/calendar/sacrament-of-confirmation-mrs-j-o-neills-class
CATEGORIES:Liturgical events
END:VEVENT
BEGIN:VEVENT
DTSTART;VALUE=DATE:20220304
DTEND;VALUE=DATE:20220305
DTSTAMP:20260424T180620
CREATED:20211202T101246Z
LAST-MODIFIED:20211202T101246Z
UID:5909-1646352000-1646438399@saintannesps.com
SUMMARY:Sacrament of Confirmation - Ms C O Boyle's Class
DESCRIPTION:Details to be confirmed.
URL:https://saintannesps.com/calendar/sacrament-of-confirmation-ms-c-o-boyles-class
CATEGORIES:Liturgical events
END:VEVENT
BEGIN:VEVENT
DTSTART;VALUE=DATE:20220321
DTEND;VALUE=DATE:20220322
DTSTAMP:20260424T180620
CREATED:20211202T101729Z
LAST-MODIFIED:20220314T121947Z
UID:5917-1647820800-1647907199@saintannesps.com
SUMMARY:Sacrament of Reconciliation - Ms Daly's Class
DESCRIPTION:Details to be confirmed.
URL:https://saintannesps.com/calendar/sacrament-of-reconciliation-ms-dalys-class
CATEGORIES:Liturgical events
END:VEVENT
BEGIN:VEVENT
DTSTART;VALUE=DATE:20220322
DTEND;VALUE=DATE:20220323
DTSTAMP:20260424T180620
CREATED:20211202T101409Z
LAST-MODIFIED:20211202T101409Z
UID:5911-1647907200-1647993599@saintannesps.com
SUMMARY:Sacrament of Reconciliation - Mrs Donnelly's Class
DESCRIPTION:Details to be confirmed
URL:https://saintannesps.com/calendar/sacrament-of-reconciliation-mrs-donnellys-class
CATEGORIES:Liturgical events
END:VEVENT
BEGIN:VEVENT
DTSTART;VALUE=DATE:20220323
DTEND;VALUE=DATE:20220324
DTSTAMP:20260424T180620
CREATED:20211202T101542Z
LAST-MODIFIED:20211202T101542Z
UID:5913-1647993600-1648079999@saintannesps.com
SUMMARY:Sacrament of Reconciliation - Mrs Walsh's Class
DESCRIPTION:Details to be confirmed.
URL:https://saintannesps.com/calendar/sacrament-of-reconciliation-mrs-walshs-class
CATEGORIES:Liturgical events
END:VEVENT
BEGIN:VEVENT
DTSTART;VALUE=DATE:20220324
DTEND;VALUE=DATE:20220325
DTSTAMP:20260424T180620
CREATED:20211202T101636Z
LAST-MODIFIED:20211202T101636Z
UID:5915-1648080000-1648166399@saintannesps.com
SUMMARY:Sacrament of Reconciliation - Mrs Dillon and Mrs Lynch's Class
DESCRIPTION:Details to be confirmed.
URL:https://saintannesps.com/calendar/sacrament-of-reconciliation-mrs-dillon-and-mrs-lynchs-class
CATEGORIES:Liturgical events
END:VEVENT
BEGIN:VEVENT
DTSTART;VALUE=DATE:20220325
DTEND;VALUE=DATE:20220326
DTSTAMP:20260424T180620
CREATED:20211202T102007Z
LAST-MODIFIED:20211202T102007Z
UID:5924-1648166400-1648252799@saintannesps.com
SUMMARY:First Holy Communion - Mrs Brown's Class
DESCRIPTION:Details to be confirmed.
URL:https://saintannesps.com/calendar/first-holy-communion-mrs-browns-class
CATEGORIES:Liturgical events
END:VEVENT
END:VCALENDAR