BEGIN:VCALENDAR
VERSION:2.0
PRODID:-//St Annes Primary School - ECPv6.0.6.2//NONSGML v1.0//EN
CALSCALE:GREGORIAN
METHOD:PUBLISH
X-WR-CALNAME:St Annes Primary School
X-ORIGINAL-URL:https://saintannesps.com
X-WR-CALDESC:Events for St Annes Primary School
REFRESH-INTERVAL;VALUE=DURATION:PT1H
X-Robots-Tag:noindex
X-PUBLISHED-TTL:PT1H
BEGIN:VTIMEZONE
TZID:UTC
BEGIN:STANDARD
TZOFFSETFROM:+0000
TZOFFSETTO:+0000
TZNAME:UTC
DTSTART:20220101T000000
END:STANDARD
END:VTIMEZONE
BEGIN:VEVENT
DTSTART;VALUE=DATE:20260105
DTEND;VALUE=DATE:20260106
DTSTAMP:20260422T192904
CREATED:20251205T183642Z
LAST-MODIFIED:20251205T183642Z
UID:9035-1767571200-1767657599@saintannesps.com
SUMMARY:Staff Development Day
DESCRIPTION:
URL:https://saintannesps.com/calendar/staff-development-day-8
CATEGORIES:General notifications/meetings
END:VEVENT
BEGIN:VEVENT
DTSTART;VALUE=DATE:20251211
DTEND;VALUE=DATE:20251212
DTSTAMP:20260422T192904
CREATED:20251205T183219Z
LAST-MODIFIED:20251205T183219Z
UID:9031-1765411200-1765497599@saintannesps.com
SUMMARY:Christmas Jumper Day
DESCRIPTION:
URL:https://saintannesps.com/calendar/christmas-jumper-day-2
CATEGORIES:General notifications/meetings
END:VEVENT
BEGIN:VEVENT
DTSTART;VALUE=DATE:20240503
DTEND;VALUE=DATE:20240504
DTSTAMP:20260422T192904
CREATED:20230609T112613Z
LAST-MODIFIED:20230609T112613Z
UID:7652-1714694400-1714780799@saintannesps.com
SUMMARY:Staff Development Day - school closed to pupils
DESCRIPTION:
URL:https://saintannesps.com/calendar/staff-development-day-school-closed-to-pupils-11
CATEGORIES:General notifications/meetings
END:VEVENT
BEGIN:VEVENT
DTSTART;TZID=UTC:20240315T080000
DTEND;TZID=UTC:20240315T170000
DTSTAMP:20260422T192904
CREATED:20230609T112233Z
LAST-MODIFIED:20230609T112233Z
UID:7643-1710489600-1710522000@saintannesps.com
SUMMARY:Staff Development Day - school closed to pupils
DESCRIPTION:
URL:https://saintannesps.com/calendar/staff-development-day-school-closed-to-pupils-10
CATEGORIES:General notifications/meetings
END:VEVENT
BEGIN:VEVENT
DTSTART;VALUE=DATE:20240103
DTEND;VALUE=DATE:20240104
DTSTAMP:20260422T192904
CREATED:20230609T110911Z
LAST-MODIFIED:20230609T110911Z
UID:7635-1704240000-1704326399@saintannesps.com
SUMMARY:Staff Development Day - school closed to pupils
DESCRIPTION:
URL:https://saintannesps.com/calendar/staff-development-day-school-closed-to-pupils-9
CATEGORIES:General notifications/meetings
END:VEVENT
BEGIN:VEVENT
DTSTART;VALUE=DATE:20231117
DTEND;VALUE=DATE:20231118
DTSTAMP:20260422T192904
CREATED:20230609T113112Z
LAST-MODIFIED:20230609T113112Z
UID:7662-1700179200-1700265599@saintannesps.com
SUMMARY:Staff Development Day - school closed to pupils
DESCRIPTION:
URL:https://saintannesps.com/calendar/staff-development-day-school-closed-to-pupils-12
CATEGORIES:General notifications/meetings
END:VEVENT
BEGIN:VEVENT
DTSTART;VALUE=DATE:20230929
DTEND;VALUE=DATE:20230930
DTSTAMP:20260422T192904
CREATED:20230609T110410Z
LAST-MODIFIED:20230609T110410Z
UID:7623-1695945600-1696031999@saintannesps.com
SUMMARY:Staff Development Day (school closed to pupils)
DESCRIPTION:
URL:https://saintannesps.com/calendar/staff-development-day-school-closed-to-pupils-8
CATEGORIES:General notifications/meetings
END:VEVENT
BEGIN:VEVENT
DTSTART;TZID=UTC:20230921T091000
DTEND;TZID=UTC:20230921T094000
DTSTAMP:20260422T192904
CREATED:20230904T104235Z
LAST-MODIFIED:20230904T104235Z
UID:7695-1695287400-1695289200@saintannesps.com
SUMMARY:P3 Curriculum Meeting
DESCRIPTION:Children will line up in their designated positions where they will be met and supervised by the Vice Principals and other staff.  You should proceed directly to your child’s classroom. \n 
URL:https://saintannesps.com/calendar/p3-curriculum-meeting
CATEGORIES:General notifications/meetings
END:VEVENT
BEGIN:VEVENT
DTSTART;TZID=UTC:20230920T091000
DTEND;TZID=UTC:20230920T094000
DTSTAMP:20260422T192904
CREATED:20230904T104133Z
LAST-MODIFIED:20230904T104133Z
UID:7693-1695201000-1695202800@saintannesps.com
SUMMARY:P2 Curriculum Meeting
DESCRIPTION:Children will line up in their designated positions where they will be met and supervised by the Vice Principals and other staff.  You should proceed directly to your child’s classroom.
URL:https://saintannesps.com/calendar/p2-curriculum-meeting
CATEGORIES:General notifications/meetings
END:VEVENT
BEGIN:VEVENT
DTSTART;TZID=UTC:20230919T091000
DTEND;TZID=UTC:20230919T094000
DTSTAMP:20260422T192904
CREATED:20230904T104029Z
LAST-MODIFIED:20230904T104029Z
UID:7691-1695114600-1695116400@saintannesps.com
SUMMARY:P6 Curriculum Meeting
DESCRIPTION:Children will line up in their designated positions where they will be met and supervised by the Vice Principals and other staff.  You should proceed directly to your child’s classroom.
URL:https://saintannesps.com/calendar/p6-curriculum-meeting
CATEGORIES:General notifications/meetings
END:VEVENT
BEGIN:VEVENT
DTSTART;TZID=UTC:20230918T091000
DTEND;TZID=UTC:20230918T094000
DTSTAMP:20260422T192904
CREATED:20230904T103919Z
LAST-MODIFIED:20230904T103919Z
UID:7689-1695028200-1695030000@saintannesps.com
SUMMARY:P7 Curriculum Meeting
DESCRIPTION:Children will line up in their designated positions where they will be met and supervised by the Vice Principals and other staff.  You should proceed directly to your child’s classroom.
URL:https://saintannesps.com/calendar/p7-curriculum-meeting
CATEGORIES:General notifications/meetings
END:VEVENT
BEGIN:VEVENT
DTSTART;TZID=UTC:20230915T130000
DTEND;TZID=UTC:20230915T144000
DTSTAMP:20260422T192904
CREATED:20230904T104701Z
LAST-MODIFIED:20230904T104701Z
UID:7705-1694782800-1694788800@saintannesps.com
SUMMARY:P1 Settling In Meetings
DESCRIPTION:
URL:https://saintannesps.com/calendar/p1-settling-in-meetings-5
CATEGORIES:General notifications/meetings
END:VEVENT
BEGIN:VEVENT
DTSTART;TZID=UTC:20230915T091000
DTEND;TZID=UTC:20230915T094000
DTSTAMP:20260422T192904
CREATED:20230904T103220Z
LAST-MODIFIED:20230904T103409Z
UID:7684-1694769000-1694770800@saintannesps.com
SUMMARY:P5 Curriculum Meeting
DESCRIPTION:Children will line up in their designated positions where they will be met and supervised by the Vice Principals and other staff.  You should proceed directly to your child’s classroom. \n 
URL:https://saintannesps.com/calendar/p5-curriculum-meeting-910-940-am
CATEGORIES:General notifications/meetings
END:VEVENT
BEGIN:VEVENT
DTSTART;TZID=UTC:20230914T130000
DTEND;TZID=UTC:20230914T144000
DTSTAMP:20260422T192904
CREATED:20230904T104619Z
LAST-MODIFIED:20230904T104619Z
UID:7703-1694696400-1694702400@saintannesps.com
SUMMARY:P1 Settling In Meetings
DESCRIPTION:
URL:https://saintannesps.com/calendar/p1-settling-in-meetings-4
CATEGORIES:General notifications/meetings
END:VEVENT
BEGIN:VEVENT
DTSTART;TZID=UTC:20230914T091000
DTEND;TZID=UTC:20230914T094000
DTSTAMP:20260422T192904
CREATED:20230904T102959Z
LAST-MODIFIED:20230904T103335Z
UID:7682-1694682600-1694684400@saintannesps.com
SUMMARY:P4 Curriculum Meeting
DESCRIPTION:Children will line up in their designated positions where they will be met and supervised by the Vice Principals and other staff.  You should proceed directly to your child’s classroom.
URL:https://saintannesps.com/calendar/p4-curriculum-meeting-9-10-940-am
CATEGORIES:General notifications/meetings
END:VEVENT
BEGIN:VEVENT
DTSTART;TZID=UTC:20230913T130000
DTEND;TZID=UTC:20230913T144000
DTSTAMP:20260422T192904
CREATED:20230904T104548Z
LAST-MODIFIED:20230904T104548Z
UID:7701-1694610000-1694616000@saintannesps.com
SUMMARY:P1 Settling In Meetings
DESCRIPTION:
URL:https://saintannesps.com/calendar/p1-settling-in-meetings-3
CATEGORIES:General notifications/meetings
END:VEVENT
BEGIN:VEVENT
DTSTART;TZID=UTC:20230912T130000
DTEND;TZID=UTC:20230912T144000
DTSTAMP:20260422T192904
CREATED:20230904T104506Z
LAST-MODIFIED:20230904T104506Z
UID:7699-1694523600-1694529600@saintannesps.com
SUMMARY:P1 Settling In Meetings
DESCRIPTION:
URL:https://saintannesps.com/calendar/p1-settling-in-meetings-2
CATEGORIES:General notifications/meetings
END:VEVENT
BEGIN:VEVENT
DTSTART;TZID=UTC:20230911T130000
DTEND;TZID=UTC:20230911T134000
DTSTAMP:20260422T192904
CREATED:20230904T104422Z
LAST-MODIFIED:20230904T104422Z
UID:7697-1694437200-1694439600@saintannesps.com
SUMMARY:P1 Settling In Meetings
DESCRIPTION:
URL:https://saintannesps.com/calendar/p1-settling-in-meetings
CATEGORIES:General notifications/meetings
END:VEVENT
BEGIN:VEVENT
DTSTART;VALUE=DATE:20230120
DTEND;VALUE=DATE:20230121
DTSTAMP:20260422T192904
CREATED:20220901T090352Z
LAST-MODIFIED:20220901T090352Z
UID:6432-1674172800-1674259199@saintannesps.com
SUMMARY:Parent teacher meetings - school closed to pupils
DESCRIPTION:
URL:https://saintannesps.com/calendar/parent-teacher-meetings-school-closed-to-pupils-2
CATEGORIES:General notifications/meetings
END:VEVENT
BEGIN:VEVENT
DTSTART;TZID=UTC:20230111T130000
DTEND;TZID=UTC:20230111T140000
DTSTAMP:20260422T192904
CREATED:20221202T095152Z
LAST-MODIFIED:20221202T095152Z
UID:6984-1673442000-1673445600@saintannesps.com
SUMMARY:P1 Open Day (2): 1.00-2.00 pm
DESCRIPTION:
URL:https://saintannesps.com/calendar/p1-open-day-2-1-00-2-00-pm
LOCATION:St. Anne’s Primary School: Block D
CATEGORIES:General notifications/meetings
END:VEVENT
BEGIN:VEVENT
DTSTART;TZID=UTC:20230110T143000
DTEND;TZID=UTC:20230110T153000
DTSTAMP:20260422T192904
CREATED:20221202T094944Z
LAST-MODIFIED:20221202T094944Z
UID:6979-1673361000-1673364600@saintannesps.com
SUMMARY:Nursery Open Day (2): 2.30 -3.30 pm
DESCRIPTION:
URL:https://saintannesps.com/calendar/nursery-open-day-2-2-30-3-30-pm-2
LOCATION:Nursery Unit
CATEGORIES:General notifications/meetings
END:VEVENT
BEGIN:VEVENT
DTSTART;VALUE=DATE:20221216
DTEND;VALUE=DATE:20221217
DTSTAMP:20260422T192904
CREATED:20221202T095413Z
LAST-MODIFIED:20221202T095413Z
UID:6988-1671148800-1671235199@saintannesps.com
SUMMARY:Christmas Jumper Day
DESCRIPTION:
URL:https://saintannesps.com/calendar/christmas-jumper-day
CATEGORIES:General notifications/meetings
END:VEVENT
BEGIN:VEVENT
DTSTART;TZID=UTC:20221214T130000
DTEND;TZID=UTC:20221214T140000
DTSTAMP:20260422T192904
CREATED:20221202T095059Z
LAST-MODIFIED:20221202T095059Z
UID:6981-1671022800-1671026400@saintannesps.com
SUMMARY:P1 Open Day (1): 1.00 -2.00 pm
DESCRIPTION:
URL:https://saintannesps.com/calendar/p1-open-day-1-1-00-2-00-pm
LOCATION:St. Anne’s Primary School: Block D
CATEGORIES:General notifications/meetings
END:VEVENT
BEGIN:VEVENT
DTSTART;TZID=UTC:20221213T143000
DTEND;TZID=UTC:20221213T153000
DTSTAMP:20260422T192904
CREATED:20221202T094848Z
LAST-MODIFIED:20221202T094848Z
UID:6976-1670941800-1670945400@saintannesps.com
SUMMARY:Nursery Open Day (1): 2.30 -3.30 pm
DESCRIPTION:
URL:https://saintannesps.com/calendar/nursery-open-day-1-2-30-3-30-pm
LOCATION:Nursery Unit
CATEGORIES:General notifications/meetings
END:VEVENT
BEGIN:VEVENT
DTSTART;VALUE=DATE:20221027
DTEND;VALUE=DATE:20221028
DTSTAMP:20260422T192904
CREATED:20221012T145857Z
LAST-MODIFIED:20221012T145857Z
UID:6706-1666828800-1666915199@saintannesps.com
SUMMARY:Flu Vaccinations
DESCRIPTION:
URL:https://saintannesps.com/calendar/flu-vaccinations
CATEGORIES:General notifications/meetings
END:VEVENT
BEGIN:VEVENT
DTSTART;TZID=UTC:20220926T091000
DTEND;TZID=UTC:20220926T101000
DTSTAMP:20260422T192904
CREATED:20220914T085943Z
LAST-MODIFIED:20220914T085943Z
UID:6483-1664183400-1664187000@saintannesps.com
SUMMARY:P6 Curriculum Meeting: 9.10 -9.40 am; Principal's address: 9.40 -10.10 am
DESCRIPTION:
URL:https://saintannesps.com/calendar/p6-curriculum-meeting-9-10-9-40-am-principals-address-9-40-10-10-am
CATEGORIES:General notifications/meetings
END:VEVENT
BEGIN:VEVENT
DTSTART;TZID=UTC:20220923T091000
DTEND;TZID=UTC:20220923T094000
DTSTAMP:20260422T192904
CREATED:20220912T133816Z
LAST-MODIFIED:20220912T133816Z
UID:6479-1663924200-1663926000@saintannesps.com
SUMMARY:P3 Curriculum Meeting: 9.10 -9.40 am
DESCRIPTION:
URL:https://saintannesps.com/calendar/p3-curriculum-meeting-9-10-9-40-am
CATEGORIES:General notifications/meetings
END:VEVENT
BEGIN:VEVENT
DTSTART;TZID=UTC:20220922T091000
DTEND;TZID=UTC:20220922T094000
DTSTAMP:20260422T192904
CREATED:20220912T133731Z
LAST-MODIFIED:20220912T133731Z
UID:6477-1663837800-1663839600@saintannesps.com
SUMMARY:P2 Curriculum Meeting: 9.10 - 9.40 am
DESCRIPTION:
URL:https://saintannesps.com/calendar/p2-curriculum-meeting-9-10-9-40-am
CATEGORIES:General notifications/meetings
END:VEVENT
BEGIN:VEVENT
DTSTART;TZID=UTC:20220920T091000
DTEND;TZID=UTC:20220920T094000
DTSTAMP:20260422T192904
CREATED:20220912T133618Z
LAST-MODIFIED:20220912T133618Z
UID:6475-1663665000-1663666800@saintannesps.com
SUMMARY:P4 Curriculum Meeting: 9.10 - 9.40 am
DESCRIPTION:
URL:https://saintannesps.com/calendar/p4-curriculum-meeting-9-10-9-40-am
CATEGORIES:General notifications/meetings
END:VEVENT
BEGIN:VEVENT
DTSTART;TZID=UTC:20220916T091000
DTEND;TZID=UTC:20220916T101000
DTSTAMP:20260422T192904
CREATED:20220912T133422Z
LAST-MODIFIED:20220912T133422Z
UID:6471-1663319400-1663323000@saintannesps.com
SUMMARY:P7 Curriculum Meeting 9.10 - 9.40 am; Principal's address 9.40 -10.10 am
DESCRIPTION:
URL:https://saintannesps.com/calendar/p7-curriculum-meeting-9-10-9-40-am-principals-address-9-40-10-10-am
CATEGORIES:General notifications/meetings
END:VEVENT
END:VCALENDAR