BEGIN:VCALENDAR
VERSION:2.0
PRODID:-//St Annes Primary School - ECPv6.0.6.2//NONSGML v1.0//EN
CALSCALE:GREGORIAN
METHOD:PUBLISH
X-WR-CALNAME:St Annes Primary School
X-ORIGINAL-URL:https://saintannesps.com
X-WR-CALDESC:Events for St Annes Primary School
REFRESH-INTERVAL;VALUE=DURATION:PT1H
X-Robots-Tag:noindex
X-PUBLISHED-TTL:PT1H
BEGIN:VTIMEZONE
TZID:UTC
BEGIN:STANDARD
TZOFFSETFROM:+0000
TZOFFSETTO:+0000
TZNAME:UTC
DTSTART:20240101T000000
END:STANDARD
END:VTIMEZONE
BEGIN:VEVENT
DTSTART;TZID=UTC:20240628T090000
DTEND;TZID=UTC:20240628T120000
DTSTAMP:20260423T111242
CREATED:20230609T112932Z
LAST-MODIFIED:20230609T112932Z
UID:7660-1719565200-1719576000@saintannesps.com
SUMMARY:School closes at 12.00 noon
DESCRIPTION:No Breakfast Club\, lunches or dinners. As there is only one bus at 12 noon\, parents are asked to collect children\, where possible.
URL:https://saintannesps.com/calendar/school-closes-at-12-00-noon-3
END:VEVENT
END:VCALENDAR