BEGIN:VCALENDAR
VERSION:2.0
PRODID:-//St Annes Primary School - ECPv6.0.6.2//NONSGML v1.0//EN
CALSCALE:GREGORIAN
METHOD:PUBLISH
X-WR-CALNAME:St Annes Primary School
X-ORIGINAL-URL:https://saintannesps.com
X-WR-CALDESC:Events for St Annes Primary School
REFRESH-INTERVAL;VALUE=DURATION:PT1H
X-Robots-Tag:noindex
X-PUBLISHED-TTL:PT1H
BEGIN:VTIMEZONE
TZID:UTC
BEGIN:STANDARD
TZOFFSETFROM:+0000
TZOFFSETTO:+0000
TZNAME:UTC
DTSTART:20240101T000000
END:STANDARD
END:VTIMEZONE
BEGIN:VEVENT
DTSTART;TZID=UTC:20240511T110000
DTEND;TZID=UTC:20240511T123000
DTSTAMP:20260423T090203
CREATED:20231011T154011Z
LAST-MODIFIED:20231011T154011Z
UID:7751-1715425200-1715430600@saintannesps.com
SUMMARY:First Holy Communion: P4CN/NF and P4OMG/NF
DESCRIPTION:
URL:https://saintannesps.com/calendar/first-holy-communion-p4cn-nf-and-p4omg-nf
CATEGORIES:Liturgical events
END:VEVENT
END:VCALENDAR