BEGIN:VCALENDAR
VERSION:2.0
PRODID:-//St Annes Primary School - ECPv6.0.6.2//NONSGML v1.0//EN
CALSCALE:GREGORIAN
METHOD:PUBLISH
X-ORIGINAL-URL:https://saintannesps.com
X-WR-CALDESC:Events for St Annes Primary School
REFRESH-INTERVAL;VALUE=DURATION:PT1H
X-Robots-Tag:noindex
X-PUBLISHED-TTL:PT1H
BEGIN:VTIMEZONE
TZID:UTC
BEGIN:STANDARD
TZOFFSETFROM:+0000
TZOFFSETTO:+0000
TZNAME:UTC
DTSTART:20240101T000000
END:STANDARD
END:VTIMEZONE
BEGIN:VEVENT
DTSTART;VALUE=DATE:20240503
DTEND;VALUE=DATE:20240504
DTSTAMP:20260419T123425
CREATED:20230609T112613Z
LAST-MODIFIED:20230609T112613Z
UID:7652-1714694400-1714780799@saintannesps.com
SUMMARY:Staff Development Day - school closed to pupils
DESCRIPTION:
URL:https://saintannesps.com/calendar/staff-development-day-school-closed-to-pupils-11
CATEGORIES:General notifications/meetings
END:VEVENT
END:VCALENDAR